BEGIN:VCALENDAR
VERSION:2.0
X-WR-CALNAME:Veranstaltungen
METHOD:PUBLISH
BEGIN:VEVENT
CLASS:PUBLIC
CREATED:20260426T050227Z
DESCRIPTION:nullLuxemburg Stadt/ed-9553591
DTEND;TZID="Europe/Berlin":20260517T140000
DTSTAMP:20260426T050227Z
DTSTART;TZID="Europe/Berlin":20260517T100000
LAST-MODIFIED:20260426T050227Z
LOCATION:Schluechthaus rue de l’abattoir  5 L-1111 Luxembourg
PRIORITY:5
SEQUENCE:0
SUMMARY;LANGUAGE=de:Creative Sunday
TRANSP:OPAQUE
UID:20260426T050227Z-uidGen@cc5241d592a4
X-MICROSOFT-CDO-BUSYSTATUS:BUSY
X-MICROSOFT-CDO-IMPORTANCE:1
X-MS-OLK-AUTOFILLLOCATION:FALSE
BEGIN:VALARM
TRIGGER:-PT1440M
ACTION:DISPLAY
DESCRIPTION:Reminder
END:VALARM
END:VEVENT
END:VCALENDAR

