BEGIN:VCALENDAR
VERSION:2.0
X-WR-CALNAME:Veranstaltungen
METHOD:PUBLISH
BEGIN:VEVENT
CLASS:PUBLIC
CREATED:20260426T033647Z
DESCRIPTION:nullLuxemburg Stadt/ed-9549629
DTEND;TZID="Europe/Berlin":20260606T160000
DTSTAMP:20260426T033647Z
DTSTART;TZID="Europe/Berlin":20260606T150000
LAST-MODIFIED:20260426T033647Z
LOCATION:Concert folklorique de Lidderuucht Lëtzebuerg Chemin de la Corniche - L-2160 Luxembourg
PRIORITY:5
SEQUENCE:0
SUMMARY;LANGUAGE=de:‘Sangen op der Corniche’ / Auf der Corniche singen
TRANSP:OPAQUE
UID:20260426T033647Z-uidGen@cc5241d592a4
X-MICROSOFT-CDO-BUSYSTATUS:BUSY
X-MICROSOFT-CDO-IMPORTANCE:1
X-MS-OLK-AUTOFILLLOCATION:FALSE
BEGIN:VALARM
TRIGGER:-PT1440M
ACTION:DISPLAY
DESCRIPTION:Reminder
END:VALARM
END:VEVENT
END:VCALENDAR

