BEGIN:VCALENDAR
VERSION:2.0
X-WR-CALNAME:Veranstaltungen
METHOD:PUBLISH
BEGIN:VEVENT
CLASS:PUBLIC
CREATED:20260426T020152Z
DESCRIPTION:nullHesperange/ed-9549165
DTEND;TZID="Europe/Berlin":20260703T220000
DTSTAMP:20260426T020152Z
DTSTART;TZID="Europe/Berlin":20260703T200000
LAST-MODIFIED:20260426T020152Z
LOCATION:Parc Communal Hesperange ROUTE DE THIONVILLE 474 L-5886 HESPERANGE
PRIORITY:5
SEQUENCE:0
SUMMARY;LANGUAGE=de:Tribute to France Gall
TRANSP:OPAQUE
UID:20260426T020152Z-uidGen@cc5241d592a4
X-MICROSOFT-CDO-BUSYSTATUS:BUSY
X-MICROSOFT-CDO-IMPORTANCE:1
X-MS-OLK-AUTOFILLLOCATION:FALSE
BEGIN:VALARM
TRIGGER:-PT1440M
ACTION:DISPLAY
DESCRIPTION:Reminder
END:VALARM
END:VEVENT
END:VCALENDAR

