BEGIN:VCALENDAR
VERSION:2.0
X-WR-CALNAME:Veranstaltungen
METHOD:PUBLISH
BEGIN:VEVENT
CLASS:PUBLIC
CREATED:20260425T035450Z
DESCRIPTION:nullLuxemburg Stadt/ed-9545799
DTEND;TZID="Europe/Berlin":20260819T193000
DTSTAMP:20260425T035450Z
DTSTART;TZID="Europe/Berlin":20260819T180000
LAST-MODIFIED:20260425T035450Z
LOCATION:Entrée du Parc Réimerwee rue Coudenhove-Kalergi 4 L-1359 LUXEMBOURG
PRIORITY:5
SEQUENCE:0
SUMMARY;LANGUAGE=de:Arboretum Kirchberg - Buchen, Eichen und einheimische Gehölze
TRANSP:OPAQUE
UID:20260425T035450Z-uidGen@cc5241d592a4
X-MICROSOFT-CDO-BUSYSTATUS:BUSY
X-MICROSOFT-CDO-IMPORTANCE:1
X-MS-OLK-AUTOFILLLOCATION:FALSE
BEGIN:VALARM
TRIGGER:-PT1440M
ACTION:DISPLAY
DESCRIPTION:Reminder
END:VALARM
END:VEVENT
END:VCALENDAR

