BEGIN:VCALENDAR
VERSION:2.0
X-WR-CALNAME:Veranstaltungen
METHOD:PUBLISH
BEGIN:VEVENT
CLASS:PUBLIC
CREATED:20260425T052509Z
DESCRIPTION:nullLuxemburg Stadt/ed-9542902
DTEND;TZID="Europe/Berlin":20260605T160000
DTSTAMP:20260425T052509Z
DTSTART;TZID="Europe/Berlin":20260605T150000
LAST-MODIFIED:20260425T052509Z
LOCATION:Luxembourg City Tourist Office Place Guillaume II 30 L-1648 Luxembourg
PRIORITY:5
SEQUENCE:0
SUMMARY;LANGUAGE=de:Blick auf die Oberstadt und die Festungen
TRANSP:OPAQUE
UID:20260425T052509Z-uidGen@cc5241d592a4
X-MICROSOFT-CDO-BUSYSTATUS:BUSY
X-MICROSOFT-CDO-IMPORTANCE:1
X-MS-OLK-AUTOFILLLOCATION:FALSE
BEGIN:VALARM
TRIGGER:-PT1440M
ACTION:DISPLAY
DESCRIPTION:Reminder
END:VALARM
END:VEVENT
END:VCALENDAR

