BEGIN:VCALENDAR
VERSION:2.0
X-WR-CALNAME:Veranstaltungen
METHOD:PUBLISH
BEGIN:VEVENT
CLASS:PUBLIC
CREATED:20260425T052538Z
DESCRIPTION:nullLuxemburg Stadt/ed-9542890
DTEND;TZID="Europe/Berlin":20260606T113000
DTSTAMP:20260425T052538Z
DTSTART;TZID="Europe/Berlin":20260606T100000
LAST-MODIFIED:20260425T052538Z
LOCATION:Parc Klosegrënnchen Boulevard Pierre Werner - L-2720 Luxembourg
PRIORITY:5
SEQUENCE:0
SUMMARY;LANGUAGE=de:Besuch im Park „Klosegrënnchen“ (Kirchberg)
TRANSP:OPAQUE
UID:20260425T052538Z-uidGen@cc5241d592a4
X-MICROSOFT-CDO-BUSYSTATUS:BUSY
X-MICROSOFT-CDO-IMPORTANCE:1
X-MS-OLK-AUTOFILLLOCATION:FALSE
BEGIN:VALARM
TRIGGER:-PT1440M
ACTION:DISPLAY
DESCRIPTION:Reminder
END:VALARM
END:VEVENT
END:VCALENDAR

