BEGIN:VCALENDAR
VERSION:2.0
X-WR-CALNAME:Veranstaltungen
METHOD:PUBLISH
BEGIN:VEVENT
CLASS:PUBLIC
CREATED:20260424T172131Z
DESCRIPTION:nullEttelbruck/ed-9540375
DTEND;TZID="Europe/Berlin":20260705T190000
DTSTAMP:20260424T172131Z
DTSTART;TZID="Europe/Berlin":20260705T100000
LAST-MODIFIED:20260424T172131Z
LOCATION:Däichhal Ettelbruck rue du Deich 6 L-9012 ETTELBRUCK
PRIORITY:5
SEQUENCE:0
SUMMARY;LANGUAGE=de:Foire Agricole d‘Ettelbruck
TRANSP:OPAQUE
UID:20260424T172131Z-uidGen@cc5241d592a4
X-MICROSOFT-CDO-BUSYSTATUS:BUSY
X-MICROSOFT-CDO-IMPORTANCE:1
X-MS-OLK-AUTOFILLLOCATION:FALSE
BEGIN:VALARM
TRIGGER:-PT1440M
ACTION:DISPLAY
DESCRIPTION:Reminder
END:VALARM
END:VEVENT
END:VCALENDAR

