BEGIN:VCALENDAR
VERSION:2.0
X-WR-CALNAME:Veranstaltungen
METHOD:PUBLISH
BEGIN:VEVENT
CLASS:PUBLIC
CREATED:20260424T142746Z
DESCRIPTION:nullLuxemburg Stadt/ed-9539946
DTEND;TZID="Europe/Berlin":20260430T210000
DTSTAMP:20260424T142746Z
DTSTART;TZID="Europe/Berlin":20260430T190000
LAST-MODIFIED:20260424T142746Z
LOCATION:Casino Luxembourg - Forum d'art contemporain rue Notre-Dame 41 L-2240 Luxembourg
PRIORITY:5
SEQUENCE:0
SUMMARY;LANGUAGE=de:Reise durchs Chaos
TRANSP:OPAQUE
UID:20260424T142746Z-uidGen@cc5241d592a4
X-MICROSOFT-CDO-BUSYSTATUS:BUSY
X-MICROSOFT-CDO-IMPORTANCE:1
X-MS-OLK-AUTOFILLLOCATION:FALSE
BEGIN:VALARM
TRIGGER:-PT1440M
ACTION:DISPLAY
DESCRIPTION:Reminder
END:VALARM
END:VEVENT
END:VCALENDAR

