BEGIN:VCALENDAR
VERSION:2.0
X-WR-CALNAME:Veranstaltungen
METHOD:PUBLISH
BEGIN:VEVENT
CLASS:PUBLIC
CREATED:20260424T050955Z
DESCRIPTION:nullEsch-sur-Alzette/ed-9539712
DTEND;TZID="Europe/Berlin":20260617T160000
DTSTAMP:20260424T050955Z
DTSTART;TZID="Europe/Berlin":20260617T143000
LAST-MODIFIED:20260424T050955Z
LOCATION:Escher BiBSS - Bureau d'information Besoins spécifiques & Seniors rue Louis Pasteur 24 L-4276 Esch-sur-Alzette
PRIORITY:5
SEQUENCE:0
SUMMARY;LANGUAGE=de:Info-Café: Enkelkinder sicher betreuen
TRANSP:OPAQUE
UID:20260424T050955Z-uidGen@cc5241d592a4
X-MICROSOFT-CDO-BUSYSTATUS:BUSY
X-MICROSOFT-CDO-IMPORTANCE:1
X-MS-OLK-AUTOFILLLOCATION:FALSE
BEGIN:VALARM
TRIGGER:-PT1440M
ACTION:DISPLAY
DESCRIPTION:Reminder
END:VALARM
END:VEVENT
END:VCALENDAR

