BEGIN:VCALENDAR
VERSION:2.0
X-WR-CALNAME:Veranstaltungen
METHOD:PUBLISH
BEGIN:VEVENT
CLASS:PUBLIC
CREATED:20260424T023117Z
DESCRIPTION:nullEsch-sur-Alzette/ed-9538837
DTEND;TZID="Europe/Berlin":20260515T130000
DTSTAMP:20260424T023117Z
DTSTART;TZID="Europe/Berlin":20260515T120000
LAST-MODIFIED:20260424T023117Z
LOCATION:Université populaire, Auditoire (Esch-Belval) Porte de France 14 L-4360
PRIORITY:5
SEQUENCE:0
SUMMARY;LANGUAGE=de:Mindfulness für Anfänger
TRANSP:OPAQUE
UID:20260424T023117Z-uidGen@cc5241d592a4
X-MICROSOFT-CDO-BUSYSTATUS:BUSY
X-MICROSOFT-CDO-IMPORTANCE:1
X-MS-OLK-AUTOFILLLOCATION:FALSE
BEGIN:VALARM
TRIGGER:-PT1440M
ACTION:DISPLAY
DESCRIPTION:Reminder
END:VALARM
END:VEVENT
END:VCALENDAR

