BEGIN:VCALENDAR
VERSION:2.0
X-WR-CALNAME:Veranstaltungen
METHOD:PUBLISH
BEGIN:VEVENT
CLASS:PUBLIC
CREATED:20260424T035204Z
DESCRIPTION:nullEsch-sur-Alzette/ed-9537144
DTEND;TZID="Europe/Berlin":20261217T170000
DTSTAMP:20260424T035204Z
DTSTART;TZID="Europe/Berlin":20261217T143000
LAST-MODIFIED:20260424T035204Z
LOCATION:Brasserie K116 RUE DE LUXEMBOURG 116 L-4221 ESCH-SUR-ALZETTE
PRIORITY:5
SEQUENCE:0
SUMMARY;LANGUAGE=de:Smartphone-Café @ Brasserie K116
TRANSP:OPAQUE
UID:20260424T035204Z-uidGen@cc5241d592a4
X-MICROSOFT-CDO-BUSYSTATUS:BUSY
X-MICROSOFT-CDO-IMPORTANCE:1
X-MS-OLK-AUTOFILLLOCATION:FALSE
BEGIN:VALARM
TRIGGER:-PT1440M
ACTION:DISPLAY
DESCRIPTION:Reminder
END:VALARM
END:VEVENT
END:VCALENDAR

