BEGIN:VCALENDAR
VERSION:2.0
X-WR-CALNAME:Veranstaltungen
METHOD:PUBLISH
BEGIN:VEVENT
CLASS:PUBLIC
CREATED:20260424T215433Z
DESCRIPTION:nullLuxemburg Stadt/ed-9536970
DTEND;TZID="Europe/Berlin":20260524T190000
DTSTAMP:20260424T215433Z
DTSTART;TZID="Europe/Berlin":20260524T100000
LAST-MODIFIED:20260424T215433Z
LOCATION:ChouChou rue de Bouillon 41 L-1248
PRIORITY:5
SEQUENCE:0
SUMMARY;LANGUAGE=de:„SOUK LE JASMIN – Tunesischer Tag in Luxemburg“
TRANSP:OPAQUE
UID:20260424T215433Z-uidGen@cc5241d592a4
X-MICROSOFT-CDO-BUSYSTATUS:BUSY
X-MICROSOFT-CDO-IMPORTANCE:1
X-MS-OLK-AUTOFILLLOCATION:FALSE
BEGIN:VALARM
TRIGGER:-PT1440M
ACTION:DISPLAY
DESCRIPTION:Reminder
END:VALARM
END:VEVENT
END:VCALENDAR

