BEGIN:VCALENDAR
VERSION:2.0
X-WR-CALNAME:Veranstaltungen
METHOD:PUBLISH
BEGIN:VEVENT
CLASS:PUBLIC
CREATED:20260424T224354Z
DESCRIPTION:nullLuxemburg Stadt/ed-9536323
DTEND;TZID="Europe/Berlin":20260428T203000
DTSTAMP:20260424T224354Z
DTSTART;TZID="Europe/Berlin":20260428T180000
LAST-MODIFIED:20260424T224354Z
LOCATION:Casino Display rue de la Loge 1 L-1945 Luxembourg
PRIORITY:5
SEQUENCE:0
SUMMARY;LANGUAGE=de:WAYS TO /session1
TRANSP:OPAQUE
UID:20260424T224354Z-uidGen@cc5241d592a4
X-MICROSOFT-CDO-BUSYSTATUS:BUSY
X-MICROSOFT-CDO-IMPORTANCE:1
X-MS-OLK-AUTOFILLLOCATION:FALSE
BEGIN:VALARM
TRIGGER:-PT1440M
ACTION:DISPLAY
DESCRIPTION:Reminder
END:VALARM
END:VEVENT
END:VCALENDAR

