BEGIN:VCALENDAR
VERSION:2.0
X-WR-CALNAME:Veranstaltungen
METHOD:PUBLISH
BEGIN:VEVENT
CLASS:PUBLIC
CREATED:20260424T140807Z
DESCRIPTION:nullEttelbruck/ed-9536314
DTEND;TZID="Europe/Berlin":20260807T120000
DTSTAMP:20260424T140807Z
DTSTART;TZID="Europe/Berlin":20260807T080000
LAST-MODIFIED:20260424T140807Z
LOCATION:Zone piétonne, Ettelbruck GRAND-RUE - L-9050 ETTELBRUCK
PRIORITY:5
SEQUENCE:0
SUMMARY;LANGUAGE=de:Wochenmarkt in Ettelbrück
TRANSP:OPAQUE
UID:20260424T140807Z-uidGen@cc5241d592a4
X-MICROSOFT-CDO-BUSYSTATUS:BUSY
X-MICROSOFT-CDO-IMPORTANCE:1
X-MS-OLK-AUTOFILLLOCATION:FALSE
BEGIN:VALARM
TRIGGER:-PT1440M
ACTION:DISPLAY
DESCRIPTION:Reminder
END:VALARM
END:VEVENT
END:VCALENDAR

