BEGIN:VCALENDAR
VERSION:2.0
X-WR-CALNAME:Veranstaltungen
METHOD:PUBLISH
BEGIN:VEVENT
CLASS:PUBLIC
CREATED:20260423T110559Z
DESCRIPTION:nullLuxemburg Stadt/ed-9530565
DTEND;TZID="Europe/Berlin":20260730T143000
DTSTAMP:20260423T110559Z
DTSTART;TZID="Europe/Berlin":20260730T143000
LAST-MODIFIED:20260423T110559Z
LOCATION:Villa Vauban - Musée d'Art de la Ville de Luxembourg Avenue Emile Reuter 18 L-2420 Luxembourg
PRIORITY:5
SEQUENCE:0
SUMMARY;LANGUAGE=de:Un café avec de l’art
TRANSP:OPAQUE
UID:20260423T110559Z-uidGen@cc5241d592a4
X-MICROSOFT-CDO-BUSYSTATUS:BUSY
X-MICROSOFT-CDO-IMPORTANCE:1
X-MS-OLK-AUTOFILLLOCATION:FALSE
BEGIN:VALARM
TRIGGER:-PT1440M
ACTION:DISPLAY
DESCRIPTION:Reminder
END:VALARM
END:VEVENT
END:VCALENDAR

