BEGIN:VCALENDAR
VERSION:2.0
X-WR-CALNAME:Veranstaltungen
METHOD:PUBLISH
BEGIN:VEVENT
CLASS:PUBLIC
CREATED:20260422T203444Z
DESCRIPTION:nullBeaufort/ed-9529798
DTEND;TZID="Europe/Berlin":20261108T180000
DTSTAMP:20260422T203444Z
DTSTART;TZID="Europe/Berlin":20261108T080000
LAST-MODIFIED:20260422T203444Z
LOCATION:Auberge de jeunesse Beaufort route de Dillingen 55 L-6315 BEAUFORT
PRIORITY:5
SEQUENCE:0
SUMMARY;LANGUAGE=de:Beaufort öffnet seine Türen :  MTB & Gravel Touren & Tag der offenen Tür
TRANSP:OPAQUE
UID:20260422T203444Z-uidGen@cc5241d592a4
X-MICROSOFT-CDO-BUSYSTATUS:BUSY
X-MICROSOFT-CDO-IMPORTANCE:1
X-MS-OLK-AUTOFILLLOCATION:FALSE
BEGIN:VALARM
TRIGGER:-PT1440M
ACTION:DISPLAY
DESCRIPTION:Reminder
END:VALARM
END:VEVENT
END:VCALENDAR

