BEGIN:VCALENDAR
VERSION:2.0
X-WR-CALNAME:Veranstaltungen
METHOD:PUBLISH
BEGIN:VEVENT
CLASS:PUBLIC
CREATED:20260422T202603Z
DESCRIPTION:nullLuxemburg Stadt/ed-9529498
DTEND;TZID="Europe/Berlin":20260422T210000
DTSTAMP:20260422T202603Z
DTSTART;TZID="Europe/Berlin":20260422T190000
LAST-MODIFIED:20260422T202603Z
LOCATION:Foyer Européen, 10 Rue Heine, L-1720 Luxembourg Rue Heine 10 L-1720 Luxembourg
PRIORITY:5
SEQUENCE:0
SUMMARY;LANGUAGE=de:null
TRANSP:OPAQUE
UID:20260422T202603Z-uidGen@cc5241d592a4
X-MICROSOFT-CDO-BUSYSTATUS:BUSY
X-MICROSOFT-CDO-IMPORTANCE:1
X-MS-OLK-AUTOFILLLOCATION:FALSE
BEGIN:VALARM
TRIGGER:-PT1440M
ACTION:DISPLAY
DESCRIPTION:Reminder
END:VALARM
END:VEVENT
END:VCALENDAR

