BEGIN:VCALENDAR
VERSION:2.0
X-WR-CALNAME:Veranstaltungen
METHOD:PUBLISH
BEGIN:VEVENT
CLASS:PUBLIC
CREATED:20260422T235209Z
DESCRIPTION:nullLuxemburg Stadt/ed-9529485
DTEND;TZID="Europe/Berlin":20260528T203000
DTSTAMP:20260422T235209Z
DTSTART;TZID="Europe/Berlin":20260528T173000
LAST-MODIFIED:20260422T235209Z
LOCATION:Centre Culturel Tramsschapp rue Ermesinde 49 L-1469 LUXEMBOURG
PRIORITY:5
SEQUENCE:0
SUMMARY;LANGUAGE=de:Brustkrebs: Körper und Geist in Einklang bringen, die eigenen Ressourcen für die Gesundheit mobilisieren
TRANSP:OPAQUE
UID:20260422T235209Z-uidGen@cc5241d592a4
X-MICROSOFT-CDO-BUSYSTATUS:BUSY
X-MICROSOFT-CDO-IMPORTANCE:1
X-MS-OLK-AUTOFILLLOCATION:FALSE
BEGIN:VALARM
TRIGGER:-PT1440M
ACTION:DISPLAY
DESCRIPTION:Reminder
END:VALARM
END:VEVENT
END:VCALENDAR

