BEGIN:VCALENDAR
VERSION:2.0
X-WR-CALNAME:Veranstaltungen
METHOD:PUBLISH
BEGIN:VEVENT
CLASS:PUBLIC
CREATED:20260422T232342Z
DESCRIPTION:nullLuxembourg for Tourism /ed-9524601
DTEND;TZID="Europe/Berlin":20260426T190000
DTSTAMP:20260422T232342Z
DTSTART;TZID="Europe/Berlin":20260426T173000
LAST-MODIFIED:20260422T232342Z
LOCATION:Secret Location Location  Secret L-2450
PRIORITY:5
SEQUENCE:0
SUMMARY;LANGUAGE=de:Sunday Afternoon: Folk & Storytellers
TRANSP:OPAQUE
UID:20260422T232342Z-uidGen@cc5241d592a4
X-MICROSOFT-CDO-BUSYSTATUS:BUSY
X-MICROSOFT-CDO-IMPORTANCE:1
X-MS-OLK-AUTOFILLLOCATION:FALSE
BEGIN:VALARM
TRIGGER:-PT1440M
ACTION:DISPLAY
DESCRIPTION:Reminder
END:VALARM
END:VEVENT
END:VCALENDAR

