BEGIN:VCALENDAR
VERSION:2.0
X-WR-CALNAME:Veranstaltungen
METHOD:PUBLISH
BEGIN:VEVENT
CLASS:PUBLIC
CREATED:20260421T155813Z
DESCRIPTION:nullLuxembourg for Tourism /ed-9520921
DTEND;TZID="Europe/Berlin":20260426T170000
DTSTAMP:20260421T155813Z
DTSTART;TZID="Europe/Berlin":20260426T090000
LAST-MODIFIED:20260421T155813Z
LOCATION:Centre Prince Henri Route de Diekirch 3 L-7200 Walferdange
PRIORITY:5
SEQUENCE:0
SUMMARY;LANGUAGE=de:LëtzBrocante
TRANSP:OPAQUE
UID:20260421T155813Z-uidGen@cc5241d592a4
X-MICROSOFT-CDO-BUSYSTATUS:BUSY
X-MICROSOFT-CDO-IMPORTANCE:1
X-MS-OLK-AUTOFILLLOCATION:FALSE
BEGIN:VALARM
TRIGGER:-PT1440M
ACTION:DISPLAY
DESCRIPTION:Reminder
END:VALARM
END:VEVENT
END:VCALENDAR

