BEGIN:VCALENDAR
VERSION:2.0
X-WR-CALNAME:Veranstaltungen
METHOD:PUBLISH
BEGIN:VEVENT
CLASS:PUBLIC
CREATED:20260421T030029Z
DESCRIPTION:nullWiltz/ed-9520837
DTEND;TZID="Europe/Berlin":20260425T103000
DTSTAMP:20260421T030029Z
DTSTART;TZID="Europe/Berlin":20260425T090000
LAST-MODIFIED:20260421T030029Z
LOCATION:Kannermusée PLOMM Rue Charles Lambert 19 L-9537
PRIORITY:5
SEQUENCE:0
SUMMARY;LANGUAGE=de:Wohnzimmer der Träume
TRANSP:OPAQUE
UID:20260421T030029Z-uidGen@95f8aa98cd43
X-MICROSOFT-CDO-BUSYSTATUS:BUSY
X-MICROSOFT-CDO-IMPORTANCE:1
X-MS-OLK-AUTOFILLLOCATION:FALSE
BEGIN:VALARM
TRIGGER:-PT1440M
ACTION:DISPLAY
DESCRIPTION:Reminder
END:VALARM
END:VEVENT
END:VCALENDAR

