BEGIN:VCALENDAR
VERSION:2.0
X-WR-CALNAME:Veranstaltungen
METHOD:PUBLISH
BEGIN:VEVENT
CLASS:PUBLIC
CREATED:20260421T025922Z
DESCRIPTION:nullWiltz/ed-9519243
DTEND;TZID="Europe/Berlin":20260615T093000
DTSTAMP:20260421T025922Z
DTSTART;TZID="Europe/Berlin":20260615T093000
LAST-MODIFIED:20260421T025922Z
LOCATION:PRABBELI Centre socioculturel régional Wiltz Gruberbeerig 8 L-9538 Wiltz
PRIORITY:5
SEQUENCE:0
SUMMARY;LANGUAGE=de:AUSVERKAUFT - PIZZ'N'ZIP (Für Schulen)
TRANSP:OPAQUE
UID:20260421T025922Z-uidGen@95f8aa98cd43
X-MICROSOFT-CDO-BUSYSTATUS:BUSY
X-MICROSOFT-CDO-IMPORTANCE:1
X-MS-OLK-AUTOFILLLOCATION:FALSE
BEGIN:VALARM
TRIGGER:-PT1440M
ACTION:DISPLAY
DESCRIPTION:Reminder
END:VALARM
END:VEVENT
END:VCALENDAR

