BEGIN:VCALENDAR
VERSION:2.0
X-WR-CALNAME:Veranstaltungen
METHOD:PUBLISH
BEGIN:VEVENT
CLASS:PUBLIC
CREATED:20260421T070921Z
DESCRIPTION:nullLuxemburg Stadt/ed-9518314
DTEND;TZID="Europe/Berlin":20260604T203000
DTSTAMP:20260421T070921Z
DTSTART;TZID="Europe/Berlin":20260604T193000
LAST-MODIFIED:20260421T070921Z
LOCATION:Théâtre des Capucins Place du Théâtre 9 L-2613 Luxembourg
PRIORITY:5
SEQUENCE:0
SUMMARY;LANGUAGE=de:Une Rose plus rouge
TRANSP:OPAQUE
UID:20260421T070921Z-uidGen@95f8aa98cd43
X-MICROSOFT-CDO-BUSYSTATUS:BUSY
X-MICROSOFT-CDO-IMPORTANCE:1
X-MS-OLK-AUTOFILLLOCATION:FALSE
BEGIN:VALARM
TRIGGER:-PT1440M
ACTION:DISPLAY
DESCRIPTION:Reminder
END:VALARM
END:VEVENT
END:VCALENDAR

