BEGIN:VCALENDAR
VERSION:2.0
X-WR-CALNAME:Veranstaltungen
METHOD:PUBLISH
BEGIN:VEVENT
CLASS:PUBLIC
CREATED:20260419T192513Z
DESCRIPTION:nullEchternach/ed-9509595
DTEND;TZID="Europe/Berlin":20260529T234500
DTSTAMP:20260419T192513Z
DTSTART;TZID="Europe/Berlin":20260529T160000
LAST-MODIFIED:20260419T192513Z
LOCATION:Aal Grenzbréck Rue du Pont 7, rue du Pont L-6471 Echternach
PRIORITY:5
SEQUENCE:0
SUMMARY;LANGUAGE=de:9. Brückenfest
TRANSP:OPAQUE
UID:20260419T192513Z-uidGen@95f8aa98cd43
X-MICROSOFT-CDO-BUSYSTATUS:BUSY
X-MICROSOFT-CDO-IMPORTANCE:1
X-MS-OLK-AUTOFILLLOCATION:FALSE
BEGIN:VALARM
TRIGGER:-PT1440M
ACTION:DISPLAY
DESCRIPTION:Reminder
END:VALARM
END:VEVENT
END:VCALENDAR

