BEGIN:VCALENDAR
VERSION:2.0
X-WR-CALNAME:Veranstaltungen
METHOD:PUBLISH
BEGIN:VEVENT
CLASS:PUBLIC
CREATED:20260419T193114Z
DESCRIPTION:nullEchternach/ed-9509397
DTEND;TZID="Europe/Berlin":20260606T150000
DTSTAMP:20260419T193114Z
DTSTART;TZID="Europe/Berlin":20260606T150000
LAST-MODIFIED:20260419T193114Z
LOCATION:TRIFOLION Echternach Porte St. Willlibrord 2 L-6486 Echternach
PRIORITY:5
SEQUENCE:0
SUMMARY;LANGUAGE=de:Conni - Das Musical!
TRANSP:OPAQUE
UID:20260419T193114Z-uidGen@95f8aa98cd43
X-MICROSOFT-CDO-BUSYSTATUS:BUSY
X-MICROSOFT-CDO-IMPORTANCE:1
X-MS-OLK-AUTOFILLLOCATION:FALSE
BEGIN:VALARM
TRIGGER:-PT1440M
ACTION:DISPLAY
DESCRIPTION:Reminder
END:VALARM
END:VEVENT
END:VCALENDAR

