BEGIN:VCALENDAR
VERSION:2.0
X-WR-CALNAME:Veranstaltungen
METHOD:PUBLISH
BEGIN:VEVENT
CLASS:PUBLIC
CREATED:20260419T225423Z
DESCRIPTION:nullLuxemburg Stadt/ed-9509172
DTEND;TZID="Europe/Berlin":20260430T233000
DTSTAMP:20260419T225423Z
DTSTART;TZID="Europe/Berlin":20260430T203000
LAST-MODIFIED:20260419T225423Z
LOCATION:Kasemattentheater rue du puits 14 L-2014 LUXEMBOURG
PRIORITY:5
SEQUENCE:0
SUMMARY;LANGUAGE=de:International Jazz Day
TRANSP:OPAQUE
UID:20260419T225423Z-uidGen@95f8aa98cd43
X-MICROSOFT-CDO-BUSYSTATUS:BUSY
X-MICROSOFT-CDO-IMPORTANCE:1
X-MS-OLK-AUTOFILLLOCATION:FALSE
BEGIN:VALARM
TRIGGER:-PT1440M
ACTION:DISPLAY
DESCRIPTION:Reminder
END:VALARM
END:VEVENT
END:VCALENDAR

