BEGIN:VCALENDAR
VERSION:2.0
X-WR-CALNAME:Veranstaltungen
METHOD:PUBLISH
BEGIN:VEVENT
CLASS:PUBLIC
CREATED:20260419T232033Z
DESCRIPTION:nullLuxemburg Stadt/ed-9506420
DTEND;TZID="Europe/Berlin":20260816T140000
DTSTAMP:20260419T232033Z
DTSTART;TZID="Europe/Berlin":20260816T140000
LAST-MODIFIED:20260419T232033Z
LOCATION:Nationalmusée um Fëschmaart Marché-aux-Poissons - 1 L-2345 Luxembourg
PRIORITY:5
SEQUENCE:0
SUMMARY;LANGUAGE=de:Die Magie der Linien
TRANSP:OPAQUE
UID:20260419T232033Z-uidGen@95f8aa98cd43
X-MICROSOFT-CDO-BUSYSTATUS:BUSY
X-MICROSOFT-CDO-IMPORTANCE:1
X-MS-OLK-AUTOFILLLOCATION:FALSE
BEGIN:VALARM
TRIGGER:-PT1440M
ACTION:DISPLAY
DESCRIPTION:Reminder
END:VALARM
END:VEVENT
END:VCALENDAR

