BEGIN:VCALENDAR
VERSION:2.0
X-WR-CALNAME:Veranstaltungen
METHOD:PUBLISH
BEGIN:VEVENT
CLASS:PUBLIC
CREATED:20260424T224414Z
DESCRIPTION:nullEsch-sur-Alzette/ed-9353794
DTEND;TZID="Europe/Berlin":20260424T210000
DTSTAMP:20260424T224414Z
DTSTART;TZID="Europe/Berlin":20260424T080000
LAST-MODIFIED:20260424T224414Z
LOCATION:Place de l'hotel de ville, esch-sur-alzette place de l'hotel de ville 1 L-4289
PRIORITY:5
SEQUENCE:0
SUMMARY;LANGUAGE=de:null
TRANSP:OPAQUE
UID:20260424T224414Z-uidGen@cc5241d592a4
X-MICROSOFT-CDO-BUSYSTATUS:BUSY
X-MICROSOFT-CDO-IMPORTANCE:1
X-MS-OLK-AUTOFILLLOCATION:FALSE
BEGIN:VALARM
TRIGGER:-PT1440M
ACTION:DISPLAY
DESCRIPTION:Reminder
END:VALARM
END:VEVENT
END:VCALENDAR

