BEGIN:VCALENDAR
VERSION:2.0
X-WR-CALNAME:Veranstaltungen
METHOD:PUBLISH
BEGIN:VEVENT
CLASS:PUBLIC
CREATED:20260424T212904Z
DESCRIPTION:nullWormeldange/ed-9229073
DTEND;TZID="Europe/Berlin":20260921T000000
DTSTAMP:20260424T212904Z
DTSTART;TZID="Europe/Berlin":20260920T000000
LAST-MODIFIED:20260424T212904Z
LOCATION:Riesling Open Wormeldange Ehnen L-5480 Wormeldange
PRIORITY:5
SEQUENCE:0
SUMMARY;LANGUAGE=de:Riesling Open
TRANSP:OPAQUE
UID:20260424T212904Z-uidGen@cc5241d592a4
X-MICROSOFT-CDO-BUSYSTATUS:BUSY
X-MICROSOFT-CDO-IMPORTANCE:1
X-MS-OLK-AUTOFILLLOCATION:FALSE
BEGIN:VALARM
TRIGGER:-PT1440M
ACTION:DISPLAY
DESCRIPTION:Reminder
END:VALARM
END:VEVENT
END:VCALENDAR

