BEGIN:VCALENDAR
VERSION:2.0
X-WR-CALNAME:Veranstaltungen
METHOD:PUBLISH
BEGIN:VEVENT
CLASS:PUBLIC
CREATED:20260424T212902Z
DESCRIPTION:nullVianden/ed-9137506
DTEND;TZID="Europe/Berlin":20260730T100000
DTSTAMP:20260424T212902Z
DTSTART;TZID="Europe/Berlin":20260730T100000
LAST-MODIFIED:20260424T212902Z
LOCATION:Château de Vianden rue Gaessel 1 L-9408 Vianden
PRIORITY:5
SEQUENCE:0
SUMMARY;LANGUAGE=de:Mittelalterfest in Vianden
TRANSP:OPAQUE
UID:20260424T212902Z-uidGen@cc5241d592a4
X-MICROSOFT-CDO-BUSYSTATUS:BUSY
X-MICROSOFT-CDO-IMPORTANCE:1
X-MS-OLK-AUTOFILLLOCATION:FALSE
BEGIN:VALARM
TRIGGER:-PT1440M
ACTION:DISPLAY
DESCRIPTION:Reminder
END:VALARM
END:VEVENT
END:VCALENDAR

