BEGIN:VCALENDAR
VERSION:2.0
X-WR-CALNAME:Veranstaltungen
METHOD:PUBLISH
BEGIN:VEVENT
CLASS:PUBLIC
CREATED:20260421T000725Z
DESCRIPTION:nullWiltz/ed-8574247
DTEND;TZID="Europe/Berlin":20260920T000000
DTSTAMP:20260421T000725Z
DTSTART;TZID="Europe/Berlin":20260919T000000
LAST-MODIFIED:20260421T000725Z
LOCATION:Jardin de Wiltz rue de la montagne 10 L-9538 Wiltz
PRIORITY:5
SEQUENCE:0
SUMMARY;LANGUAGE=de:Nuit des Lampions
TRANSP:OPAQUE
UID:20260421T000725Z-uidGen@95f8aa98cd43
X-MICROSOFT-CDO-BUSYSTATUS:BUSY
X-MICROSOFT-CDO-IMPORTANCE:1
X-MS-OLK-AUTOFILLLOCATION:FALSE
BEGIN:VALARM
TRIGGER:-PT1440M
ACTION:DISPLAY
DESCRIPTION:Reminder
END:VALARM
END:VEVENT
END:VCALENDAR

